BEGIN:VCALENDAR
VERSION:2.0
PRODID:-//Squarespace Inc/Squarespace 6//v6//EN
BEGIN:VEVENT
UID:58ace9d7db29d628c839c60f@squarespace.com
DTSTAMP:20170419T194413Z
DTSTART:20170517T003000Z
DTEND:20170521T013000Z
SUMMARY:Season 1: The Improv Bandits in I wasn’t expecting that!
GEO:-36.851849;174.762276
LOCATION:Herald Theatre\, Aotea Centre\, Auckland\, New Zealand
END:VEVENT
END:VCALENDAR
