BEGIN:VCALENDAR
VERSION:2.0
PRODID:-//Squarespace Inc/Squarespace 6//v6//EN
BEGIN:VEVENT
UID:5ac2d3a86d2a737c80f681db@squarespace.com
DTSTAMP:20190417T072714Z
DTSTART:20190509T003000Z
DTEND:20190512T003000Z
SUMMARY:The Improv Bandits - New Zealand International Comedy Festival 2019
 : 8 - 11 May 
GEO:-36.851849;174.762276
LOCATION:Herald Theatre\, Aotea Centre\, 50 Mayoral Drive\, Auckland
END:VEVENT
END:VCALENDAR
