BEGIN:VCALENDAR
VERSION:2.0
PRODID:-//Squarespace Inc/Squarespace 6//v6//EN
BEGIN:VEVENT
UID:5b39690f2b6a28042219944e@squarespace.com
DTSTAMP:20180702T011958Z
DTSTART:20180728T000000Z
DTEND:20180805T000000Z
SUMMARY:The Eliminator
GEO:-36.859066;174.723764
LOCATION:Tiny Theatre\, 85 Garnet Road\, Auckland\, Auckland\, 1022\, New Z
 ealand
END:VEVENT
END:VCALENDAR
