BEGIN:VCALENDAR
VERSION:2.0
PRODID:-//Squarespace Inc/Squarespace 6//v6//EN
BEGIN:VEVENT
UID:59f8d6e5d6839accc361c4ea@squarespace.com
DTSTAMP:20180403T010648Z
DTSTART:20171105T000000Z
DTEND:20171105T020000Z
SUMMARY:20! The Improv Bandits SPECIAL FUNDRAISING SHOW
GEO:-36.892935;174.815856
LOCATION:Michael Park School\, 55 Amy Street\, Ellerslie\, Auckland\, New Z
 ealand
END:VEVENT
END:VCALENDAR
