BEGIN:VCALENDAR
VERSION:2.0
PRODID:-//Squarespace Inc/Squarespace 6//v6//EN
BEGIN:VEVENT
UID:58adefc4725e253a7215b1f2@squarespace.com
DTSTAMP:20171031T200245Z
DTSTART:20171104T000000Z
DTEND:20171104T020000Z
SUMMARY:20! The Improv Bandits 20th Birthday Show
GEO:-36.8509;174.764517
LOCATION:Auckland Town Hall\, Queen Street\, Auckland\, 1010\, New Zealand
END:VEVENT
END:VCALENDAR
