BEGIN:VCALENDAR
VERSION:2.0
PRODID:-//Squarespace Inc/Squarespace 6//v6//EN
BEGIN:VEVENT
UID:58ad016b725e2598015ada7f@squarespace.com
DTSTAMP:20170621T043421Z
DTSTART:20170909T000000Z
DTEND:20170909T020000Z
SUMMARY:The Improv Bandits go East
GEO:-36.892935;174.815856
LOCATION:Michael Park Auditorium\, 55 Amy Street\, Auckland\, Auckland\, 10
 51\, New Zealand
END:VEVENT
END:VCALENDAR
