BEGIN:VCALENDAR
VERSION:2.0
PRODID:-//Squarespace Inc/Squarespace 6//v6//EN
BEGIN:VEVENT
UID:5d6ca17c18a8d50001ae8c91@squarespace.com
DTSTAMP:20190903T224425Z
DTSTART:20191109T010000Z
DTEND:20191110T021500Z
SUMMARY:Improv Bandits Turn 22! Birthday shows...
END:VEVENT
END:VCALENDAR
