BEGIN:VCALENDAR
VERSION:2.0
PRODID:-//Squarespace Inc/Squarespace 6//v6//EN
BEGIN:VEVENT
UID:5bc3c2f915fcc00e13b70190@squarespace.com
DTSTAMP:20190902T045836Z
DTSTART:20181103T000000Z
DTEND:20181104T011500Z
SUMMARY:Improv Bandits Turn 21! Birthday shows...
END:VEVENT
END:VCALENDAR
