BEGIN:VCALENDAR
VERSION:2.0
PRODID:-//Squarespace Inc/Squarespace 6//v6//EN
BEGIN:VEVENT
UID:5a3b6815e2c4835bd33834ad@squarespace.com
DTSTAMP:20171221T080436Z
DTSTART:20180225T003000Z
DTEND:20180225T013000Z
SUMMARY:DING! - AUCKLAND FRINGE 2018 on Saturday
GEO:-36.862679;174.717236
LOCATION:TAPAC - The Auckland Performing Arts Centre\, 100 Motions Road\, A
 uckland\, Auckland\, 1022\, New Zealand
END:VEVENT
END:VCALENDAR
