BEGIN:VCALENDAR
VERSION:2.0
PRODID:-//Squarespace Inc/Squarespace 6//v6//EN
BEGIN:VEVENT
UID:5f3224db0ed06407ecbdec43@squarespace.com
DTSTAMP:20200811T050858Z
DTSTART:20201122T003000Z
DTEND:20201122T020000Z
SUMMARY:The Improv Bandits 23rd Birthday Bash
GEO:-36.851849;174.762276
LOCATION:Herald Theatre\, Aotea Centre\, 50 Mayoral Drive\, Auckland
END:VEVENT
END:VCALENDAR
