BEGIN:VCALENDAR
VERSION:2.0
PRODID:-//Squarespace Inc/Squarespace 6//v6//EN
BEGIN:VEVENT
UID:5eef41a20a6da31edacd2705@squarespace.com
DTSTAMP:20200621T112243Z
DTSTART:20200626T233000Z
DTEND:20200627T010000Z
SUMMARY:The Improv Bandits
GEO:-36.848778;174.738066
LOCATION:51 MacKelvie Street\, Ponsonby\, New Zealand
END:VEVENT
END:VCALENDAR
